BEGIN:VCALENDAR
VERSION:2.0
PRODID:-//Cott Village - ECPv4.6.23//NONSGML v1.0//EN
CALSCALE:GREGORIAN
METHOD:PUBLISH
X-WR-CALNAME:Cott Village
X-ORIGINAL-URL:https://www.cottvillage.com.au
X-WR-CALDESC:Events for Cott Village
BEGIN:VEVENT
DTSTART;TZID=UTC+0:20150910T060000
DTEND;TZID=UTC+0:20150930T170000
DTSTAMP:20210301T033649
CREATED:20150910T013609Z
LAST-MODIFIED:20150910T013609Z
UID:366-1441864800-1443632400@www.cottvillage.com.au
SUMMARY:September Instagram Competition - Win $500*
DESCRIPTION:Entries must: \n\nFollow @cottesloevillage on instagram for the duration of the Cottesloe Village Competition (ie until drawn)\nRepost the Cottesloe Village Competition image\nTag 2 friends in your reposted image\n Add “#cottesloevillage500” to your repost\n Only one entry per instagram user will be accepted\n Winner will be drawn at random on 30/9/15\n Winner will be announced and notified via a public post on @cottesloevillage instagram page\n Winner will need to contact Cottesloe Village on enquiry@cottvillage.com.auwithin 7 days of this notification\n Prize of $500 will be issued as [2 x $100\, 2 x $50\, 5 x $20\, 10 x $10] vouchers redeemable only within Cottesloe Village\nVouchers may not be redeemed for cash\, nor any unspent part refunded or transferred to another business\nVouchers valid till 31/12/15\nAll decisions relating to the Competition will be made by Cottesloe Village association (ProCott) and are final.\n\n
URL:https://www.cottvillage.com.au/event/september-instagram-competition-win-500/
END:VEVENT
END:VCALENDAR